BEGIN:VCALENDAR
VERSION:2.0
PRODID:icalendar-ruby
CALSCALE:GREGORIAN
METHOD:PUBLISH
BEGIN:VEVENT
DTSTAMP:20260425T170839Z
UID:67f710f7-904e-463e-88f5-afcf75e48270
DTSTART;VALUE=DATE:20100102
DTEND;VALUE=DATE:20100102
DESCRIPTION:Lone Star BMX
LOCATION:3950 Eisenhauer Rd  San Antonio TX 78218 USA
SUMMARY:Standard Single
URL:/site/bmx_races/114286
END:VEVENT
END:VCALENDAR
