BEGIN:VCALENDAR
VERSION:2.0
PRODID:icalendar-ruby
CALSCALE:GREGORIAN
METHOD:PUBLISH
BEGIN:VEVENT
DTSTAMP:20260424T051656Z
UID:d7d6ff9b-4e49-456d-a2f5-25f91762c4ea
DTSTART;VALUE=DATE:20100917
DTEND;VALUE=DATE:20100917
DESCRIPTION:Colorado River BMX
LOCATION:2230 Highland Dr  Bullhead City AZ 86442 USA
SUMMARY:Standard Single
URL:/site/bmx_races/115344
END:VEVENT
END:VCALENDAR
