BEGIN:VCALENDAR
VERSION:2.0
PRODID:icalendar-ruby
CALSCALE:GREGORIAN
METHOD:PUBLISH
BEGIN:VEVENT
DTSTAMP:20260421T170158Z
UID:ec2cc312-33cf-4742-a2bc-1d0171730f26
DTSTART;VALUE=DATE:20100327
DTEND;VALUE=DATE:20100327
DESCRIPTION:Steel Wheels Indoor BMX
LOCATION:709 N Hobart Rd  Hobart IN 46350 USA
SUMMARY:Standard Single
URL:/site/bmx_races/115396
END:VEVENT
END:VCALENDAR
