BEGIN:VCALENDAR
VERSION:2.0
PRODID:icalendar-ruby
CALSCALE:GREGORIAN
METHOD:PUBLISH
BEGIN:VEVENT
DTSTAMP:20260424T034827Z
UID:9c87e474-ceb7-49a7-956e-78bbb80519e4
DTSTART;VALUE=DATE:20101023
DTEND;VALUE=DATE:20101023
DESCRIPTION:Colorado River BMX
LOCATION:2230 Highland Dr  Bullhead City AZ 86442 USA
SUMMARY:Standard Single
URL:/site/bmx_races/115871
END:VEVENT
END:VCALENDAR
