BEGIN:VCALENDAR
VERSION:2.0
PRODID:icalendar-ruby
CALSCALE:GREGORIAN
METHOD:PUBLISH
BEGIN:VEVENT
DTSTAMP:20260419T182524Z
UID:95c9bc4b-88f1-47a4-b119-09c0c9e276bd
DTSTART;VALUE=DATE:20100320
DTEND;VALUE=DATE:20100320
DESCRIPTION:Peninsula Indoor BMX
LOCATION:5867 Dogwood Road Se  Port Orchard WA 98367 USA
SUMMARY:Standard Double
URL:/site/bmx_races/116095
END:VEVENT
END:VCALENDAR
