BEGIN:VCALENDAR
VERSION:2.0
PRODID:icalendar-ruby
CALSCALE:GREGORIAN
METHOD:PUBLISH
BEGIN:VEVENT
DTSTAMP:20260421T042305Z
UID:a71de9ad-5cc8-478d-848e-705d03917efb
DTSTART;VALUE=DATE:20100817
DTEND;VALUE=DATE:20100817
DESCRIPTION:Lakes Area BMX
LOCATION:10415 Town Hall Street  Brainerd MN 56401 USA
SUMMARY:Standard Single
URL:/site/bmx_races/116728
END:VEVENT
END:VCALENDAR
