BEGIN:VCALENDAR
VERSION:2.0
PRODID:icalendar-ruby
CALSCALE:GREGORIAN
METHOD:PUBLISH
BEGIN:VEVENT
DTSTAMP:20260421T024208Z
UID:944c3940-f1ec-4747-a4b8-21adc7f2336a
DTSTART;VALUE=DATE:20100926
DTEND;VALUE=DATE:20100926
DESCRIPTION:Lakes Area BMX
LOCATION:10415 Town Hall Street  Brainerd MN 56401 USA
SUMMARY:Standard Single
URL:/site/bmx_races/116818
END:VEVENT
END:VCALENDAR
