BEGIN:VCALENDAR
VERSION:2.0
PRODID:icalendar-ruby
CALSCALE:GREGORIAN
METHOD:PUBLISH
BEGIN:VEVENT
DTSTAMP:20260425T232938Z
UID:2c3bf2b9-df3b-4f26-bd28-21715955d72d
DTSTART;VALUE=DATE:20100117
DTEND;VALUE=DATE:20100117
DESCRIPTION:San Diego BMX
LOCATION:3170 Armstrong Street Behind Kearny Mesa Recreation Center San Die
 go CA 92111 USA
SUMMARY:Standard Single
URL:/site/bmx_races/117109
END:VEVENT
END:VCALENDAR
