BEGIN:VCALENDAR
VERSION:2.0
PRODID:icalendar-ruby
CALSCALE:GREGORIAN
METHOD:PUBLISH
BEGIN:VEVENT
DTSTAMP:20260424T130409Z
UID:90dcd36e-736e-4d7c-87a1-dffbc597064d
DTSTART;VALUE=DATE:20100521
DTEND;VALUE=DATE:20100521
DESCRIPTION:Colorado River BMX
LOCATION:2230 Highland Dr  Bullhead City AZ 86442 USA
SUMMARY:Standard Single
URL:/site/bmx_races/117176
END:VEVENT
END:VCALENDAR
