BEGIN:VCALENDAR
VERSION:2.0
PRODID:icalendar-ruby
CALSCALE:GREGORIAN
METHOD:PUBLISH
BEGIN:VEVENT
DTSTAMP:20260424T051656Z
UID:44d8c7d5-c2ae-49a7-ac1e-77a9ddea8b26
DTSTART;VALUE=DATE:20100924
DTEND;VALUE=DATE:20100924
DESCRIPTION:Colorado River BMX
LOCATION:2230 Highland Dr  Bullhead City AZ 86442 USA
SUMMARY:Standard Single
URL:/site/bmx_races/117671
END:VEVENT
END:VCALENDAR
