BEGIN:VCALENDAR
VERSION:2.0
PRODID:icalendar-ruby
CALSCALE:GREGORIAN
METHOD:PUBLISH
BEGIN:VEVENT
DTSTAMP:20260421T021847Z
UID:b0cb4ffe-e0cf-4358-8a97-19c43c860db8
DTSTART;VALUE=DATE:20101211
DTEND;VALUE=DATE:20101211
DESCRIPTION:Steel Wheels Indoor BMX
LOCATION:709 N Hobart Rd  Hobart IN 46350 USA
SUMMARY:Standard Double
URL:/site/bmx_races/117768
END:VEVENT
END:VCALENDAR
