BEGIN:VCALENDAR
VERSION:2.0
PRODID:icalendar-ruby
CALSCALE:GREGORIAN
METHOD:PUBLISH
BEGIN:VEVENT
DTSTAMP:20260421T054607Z
UID:2a1eddb4-945b-4cc3-8e21-767c68a30577
DTSTART;VALUE=DATE:20101030
DTEND;VALUE=DATE:20101030
DESCRIPTION:Steel Wheels Indoor BMX
LOCATION:709 N Hobart Rd  Hobart IN 46350 USA
SUMMARY:Standard Single
URL:/site/bmx_races/118184
END:VEVENT
END:VCALENDAR
