BEGIN:VCALENDAR
VERSION:2.0
PRODID:icalendar-ruby
CALSCALE:GREGORIAN
METHOD:PUBLISH
BEGIN:VEVENT
DTSTAMP:20260423T070229Z
UID:05599d04-6996-4189-a3f6-d781ce4a6829
DTSTART;VALUE=DATE:20101016
DTEND;VALUE=DATE:20101016
DESCRIPTION:Oak Creek BMX
LOCATION:648 Riverside Ave  Roseville CA 95678 USA
SUMMARY:Standard Single
URL:/site/bmx_races/118542
END:VEVENT
END:VCALENDAR
