BEGIN:VCALENDAR
VERSION:2.0
PRODID:icalendar-ruby
CALSCALE:GREGORIAN
METHOD:PUBLISH
BEGIN:VEVENT
DTSTAMP:20260421T184434Z
UID:50f89a50-9737-4d61-9565-c603c8178dfa
DTSTART;VALUE=DATE:20100206
DTEND;VALUE=DATE:20100206
DESCRIPTION:Steel Wheels Indoor BMX
LOCATION:709 N Hobart Rd  Hobart IN 46350 USA
SUMMARY:Race For Life Double
URL:/site/bmx_races/118909
END:VEVENT
END:VCALENDAR
