BEGIN:VCALENDAR
VERSION:2.0
PRODID:icalendar-ruby
CALSCALE:GREGORIAN
METHOD:PUBLISH
BEGIN:VEVENT
DTSTAMP:20260424T083021Z
UID:4e92d309-3453-413f-8101-201927280b7d
DTSTART;VALUE=DATE:20100714
DTEND;VALUE=DATE:20100714
DESCRIPTION:Colorado River BMX
LOCATION:2230 Highland Dr  Bullhead City AZ 86442 USA
SUMMARY:Standard Single
URL:/site/bmx_races/119108
END:VEVENT
END:VCALENDAR
