BEGIN:VCALENDAR
VERSION:2.0
PRODID:icalendar-ruby
CALSCALE:GREGORIAN
METHOD:PUBLISH
BEGIN:VEVENT
DTSTAMP:20260425T154211Z
UID:f5ea4219-cfdc-44a1-a523-9874d960a795
DTSTART;VALUE=DATE:20100606
DTEND;VALUE=DATE:20100606
DESCRIPTION:San Diego BMX
LOCATION:3170 Armstrong Street Behind Kearny Mesa Recreation Center San Die
 go CA 92111 USA
SUMMARY:Standard Single
URL:/site/bmx_races/119534
END:VEVENT
END:VCALENDAR
