BEGIN:VCALENDAR
VERSION:2.0
PRODID:icalendar-ruby
CALSCALE:GREGORIAN
METHOD:PUBLISH
BEGIN:VEVENT
DTSTAMP:20260421T135127Z
UID:61239637-848c-434a-99bc-74e17af18f6d
DTSTART;VALUE=DATE:20100520
DTEND;VALUE=DATE:20100520
DESCRIPTION:Steel Wheels Indoor BMX
LOCATION:709 N Hobart Rd  Hobart IN 46350 USA
SUMMARY:Standard Single
URL:/site/bmx_races/120332
END:VEVENT
END:VCALENDAR
