BEGIN:VCALENDAR
VERSION:2.0
PRODID:icalendar-ruby
CALSCALE:GREGORIAN
METHOD:PUBLISH
BEGIN:VEVENT
DTSTAMP:20260425T214518Z
UID:ecaaba51-98a7-4e24-992d-b9275fe48d9e
DTSTART;VALUE=DATE:20090804
DTEND;VALUE=DATE:20090804
DESCRIPTION:Apple Valley BMX Moto Park
LOCATION:24320 Highway 18  Apple Valley CA 92307 USA
SUMMARY:Standard Single
URL:/site/bmx_races/121327
END:VEVENT
END:VCALENDAR
