BEGIN:VCALENDAR
VERSION:2.0
PRODID:icalendar-ruby
CALSCALE:GREGORIAN
METHOD:PUBLISH
BEGIN:VEVENT
DTSTAMP:20260424T065135Z
UID:b38fbc60-fd38-4ee4-a42d-71477ce23aa4
DTSTART;VALUE=DATE:20090726
DTEND;VALUE=DATE:20090726
DESCRIPTION:Oak Creek BMX
LOCATION:648 Riverside Ave  Roseville CA 95678 USA
SUMMARY:Standard Single
URL:/site/bmx_races/121345
END:VEVENT
END:VCALENDAR
