BEGIN:VCALENDAR
VERSION:2.0
PRODID:icalendar-ruby
CALSCALE:GREGORIAN
METHOD:PUBLISH
BEGIN:VEVENT
DTSTAMP:20260421T232505Z
UID:7bea2cf3-e4e7-4af8-867e-dc4c6552029b
DTSTART;VALUE=DATE:20090226
DTEND;VALUE=DATE:20090226
DESCRIPTION:Emerald Valley BMX
LOCATION:2715 Leo Harris Pkwy  Eugene OR 97402 USA
SUMMARY:Standard Single
URL:/site/bmx_races/121625
END:VEVENT
END:VCALENDAR
