BEGIN:VCALENDAR
VERSION:2.0
PRODID:icalendar-ruby
CALSCALE:GREGORIAN
METHOD:PUBLISH
BEGIN:VEVENT
DTSTAMP:20260422T023413Z
UID:bccd30fc-7c73-402f-a484-07dd71a9b20d
DTSTART;VALUE=DATE:20090607
DTEND;VALUE=DATE:20090607
DESCRIPTION:Lakes Area BMX
LOCATION:10415 Town Hall Street  Brainerd MN 56401 USA
SUMMARY:Standard Double
URL:/site/bmx_races/122760
END:VEVENT
END:VCALENDAR
