BEGIN:VCALENDAR
VERSION:2.0
PRODID:icalendar-ruby
CALSCALE:GREGORIAN
METHOD:PUBLISH
BEGIN:VEVENT
DTSTAMP:20260421T184556Z
UID:0545cc76-3570-412a-a67a-0719f3f21c19
DTSTART;VALUE=DATE:20090511
DTEND;VALUE=DATE:20090511
DESCRIPTION:Emerald Valley BMX
LOCATION:2715 Leo Harris Pkwy  Eugene OR 97402 USA
SUMMARY:Standard Single
URL:/site/bmx_races/123386
END:VEVENT
END:VCALENDAR
