BEGIN:VCALENDAR
VERSION:2.0
PRODID:icalendar-ruby
CALSCALE:GREGORIAN
METHOD:PUBLISH
BEGIN:VEVENT
DTSTAMP:20260421T071019Z
UID:be13c358-c52f-4b6f-8e30-12749b265f3d
DTSTART;VALUE=DATE:20091210
DTEND;VALUE=DATE:20091210
DESCRIPTION:Emerald Valley BMX
LOCATION:2715 Leo Harris Pkwy  Eugene OR 97402 USA
SUMMARY:Standard Single
URL:/site/bmx_races/123617
END:VEVENT
END:VCALENDAR
