BEGIN:VCALENDAR
VERSION:2.0
PRODID:icalendar-ruby
CALSCALE:GREGORIAN
METHOD:PUBLISH
BEGIN:VEVENT
DTSTAMP:20260423T162859Z
UID:f76e71e9-db50-4b94-ba65-50229145157a
DTSTART;VALUE=DATE:20090612
DTEND;VALUE=DATE:20090612
DESCRIPTION:Carson City BMX
LOCATION:1555 Livermore Ln  Carson City NV 89721 USA
SUMMARY:Standard Single
URL:/site/bmx_races/125128
END:VEVENT
END:VCALENDAR
