BEGIN:VCALENDAR
VERSION:2.0
PRODID:icalendar-ruby
CALSCALE:GREGORIAN
METHOD:PUBLISH
BEGIN:VEVENT
DTSTAMP:20260424T065212Z
UID:5368045f-c783-43f5-a35f-2e62caeaefb5
DTSTART;VALUE=DATE:20090528
DTEND;VALUE=DATE:20090528
DESCRIPTION:Southwest Wyoming Outdoor BMX
LOCATION:1795 Bridger Rd   Green River WY 82935 USA
SUMMARY:Standard Single
URL:/site/bmx_races/125305
END:VEVENT
END:VCALENDAR
