BEGIN:VCALENDAR
VERSION:2.0
PRODID:icalendar-ruby
CALSCALE:GREGORIAN
METHOD:PUBLISH
BEGIN:VEVENT
DTSTAMP:20260426T022359Z
UID:a7bfad61-c635-41b2-b7b5-6d7e38961333
DTSTART;VALUE=DATE:20090508
DTEND;VALUE=DATE:20090508
DESCRIPTION:Apple Valley BMX Moto Park
LOCATION:24320 Highway 18  Apple Valley CA 92307 USA
SUMMARY:Standard Single
URL:/site/bmx_races/125379
END:VEVENT
END:VCALENDAR
