BEGIN:VCALENDAR
VERSION:2.0
PRODID:icalendar-ruby
CALSCALE:GREGORIAN
METHOD:PUBLISH
BEGIN:VEVENT
DTSTAMP:20260421T121601Z
UID:125fa87e-1636-40e2-a1e0-228cbe92d376
DTSTART;VALUE=DATE:20090917
DTEND;VALUE=DATE:20090917
DESCRIPTION:Emerald Valley BMX
LOCATION:2715 Leo Harris Pkwy  Eugene OR 97402 USA
SUMMARY:Standard Single
URL:/site/bmx_races/125575
END:VEVENT
END:VCALENDAR
