BEGIN:VCALENDAR
VERSION:2.0
PRODID:icalendar-ruby
CALSCALE:GREGORIAN
METHOD:PUBLISH
BEGIN:VEVENT
DTSTAMP:20260422T150159Z
UID:92a6244e-3d1c-4574-af63-31936f812bea
DTSTART;VALUE=DATE:20090115
DTEND;VALUE=DATE:20090115
DESCRIPTION:Steel Wheels Indoor BMX
LOCATION:709 N Hobart Rd  Hobart IN 46350 USA
SUMMARY:Standard Single
URL:/site/bmx_races/125639
END:VEVENT
END:VCALENDAR
