BEGIN:VCALENDAR
VERSION:2.0
PRODID:icalendar-ruby
CALSCALE:GREGORIAN
METHOD:PUBLISH
BEGIN:VEVENT
DTSTAMP:20260425T232939Z
UID:391eb76f-2c42-4214-9282-bfb87524d3ff
DTSTART;VALUE=DATE:20090910
DTEND;VALUE=DATE:20090910
DESCRIPTION:Oldsmar BMX Supercross
LOCATION:Oldsmar Sports Complex 3120 Tampa Road Oldsmar FL 34677 USA
SUMMARY:Standard Single
URL:/site/bmx_races/126091
END:VEVENT
END:VCALENDAR
