BEGIN:VCALENDAR
VERSION:2.0
PRODID:icalendar-ruby
CALSCALE:GREGORIAN
METHOD:PUBLISH
BEGIN:VEVENT
DTSTAMP:20260421T214554Z
UID:addf3338-a487-4cac-9704-af45511a5e6a
DTSTART;VALUE=DATE:20090326
DTEND;VALUE=DATE:20090326
DESCRIPTION:Emerald Valley BMX
LOCATION:2715 Leo Harris Pkwy  Eugene OR 97402 USA
SUMMARY:Standard Single
URL:/site/bmx_races/126200
END:VEVENT
END:VCALENDAR
