BEGIN:VCALENDAR
VERSION:2.0
PRODID:icalendar-ruby
CALSCALE:GREGORIAN
METHOD:PUBLISH
BEGIN:VEVENT
DTSTAMP:20260425T202313Z
UID:9f198795-0847-419c-9b99-cbf372f42ad3
DTSTART;VALUE=DATE:20090926
DTEND;VALUE=DATE:20090926
DESCRIPTION:Apple Valley BMX Moto Park
LOCATION:24320 Highway 18  Apple Valley CA 92307 USA
SUMMARY:Standard Single
URL:/site/bmx_races/127207
END:VEVENT
END:VCALENDAR
