BEGIN:VCALENDAR
VERSION:2.0
PRODID:icalendar-ruby
CALSCALE:GREGORIAN
METHOD:PUBLISH
BEGIN:VEVENT
DTSTAMP:20260424T083021Z
UID:ae44a372-e0d8-49b0-ae70-747d565dd490
DTSTART;VALUE=DATE:20090614
DTEND;VALUE=DATE:20090614
DESCRIPTION:Oak Creek BMX
LOCATION:648 Riverside Ave  Roseville CA 95678 USA
SUMMARY:Standard Single
URL:/site/bmx_races/127235
END:VEVENT
END:VCALENDAR
