BEGIN:VCALENDAR
VERSION:2.0
PRODID:icalendar-ruby
CALSCALE:GREGORIAN
METHOD:PUBLISH
BEGIN:VEVENT
DTSTAMP:20260426T035818Z
UID:7c8af313-2edd-44c3-96c8-4fb7e1a9dfe4
DTSTART;VALUE=DATE:20091016
DTEND;VALUE=DATE:20091016
DESCRIPTION:San Diego BMX
LOCATION:3170 Armstrong Street Behind Kearny Mesa Recreation Center San Die
 go CA 92111 USA
SUMMARY:Standard Single
URL:/site/bmx_races/127301
END:VEVENT
END:VCALENDAR
