BEGIN:VCALENDAR
VERSION:2.0
PRODID:icalendar-ruby
CALSCALE:GREGORIAN
METHOD:PUBLISH
BEGIN:VEVENT
DTSTAMP:20260424T130347Z
UID:9a15212d-822d-4d7f-9b41-8bb030ef3a58
DTSTART;VALUE=DATE:20090328
DTEND;VALUE=DATE:20090328
DESCRIPTION:Oak Creek BMX
LOCATION:648 Riverside Ave  Roseville CA 95678 USA
SUMMARY:Standard Single
URL:/site/bmx_races/127564
END:VEVENT
END:VCALENDAR
