BEGIN:VCALENDAR
VERSION:2.0
PRODID:icalendar-ruby
CALSCALE:GREGORIAN
METHOD:PUBLISH
BEGIN:VEVENT
DTSTAMP:20260423T100149Z
UID:bb5639ad-8c6d-465f-ae41-c843a6460fb5
DTSTART;VALUE=DATE:20091011
DTEND;VALUE=DATE:20091011
DESCRIPTION:Carson City BMX
LOCATION:1555 Livermore Ln  Carson City NV 89721 USA
SUMMARY:Standard Single
URL:/site/bmx_races/127579
END:VEVENT
END:VCALENDAR
