BEGIN:VCALENDAR
VERSION:2.0
PRODID:icalendar-ruby
CALSCALE:GREGORIAN
METHOD:PUBLISH
BEGIN:VEVENT
DTSTAMP:20260421T170006Z
UID:430e42df-d675-41af-b3a2-e539562c4ac7
DTSTART;VALUE=DATE:20090629
DTEND;VALUE=DATE:20090629
DESCRIPTION:Emerald Valley BMX
LOCATION:2715 Leo Harris Pkwy  Eugene OR 97402 USA
SUMMARY:Standard Single
URL:/site/bmx_races/127934
END:VEVENT
END:VCALENDAR
