BEGIN:VCALENDAR
VERSION:2.0
PRODID:icalendar-ruby
CALSCALE:GREGORIAN
METHOD:PUBLISH
BEGIN:VEVENT
DTSTAMP:20260424T051726Z
UID:abe415ca-7739-4e40-a0dd-416abf24fffa
DTSTART;VALUE=DATE:20090802
DTEND;VALUE=DATE:20090802
DESCRIPTION:Oak Creek BMX
LOCATION:648 Riverside Ave  Roseville CA 95678 USA
SUMMARY:Standard Single
URL:/site/bmx_races/128189
END:VEVENT
END:VCALENDAR
