BEGIN:VCALENDAR
VERSION:2.0
PRODID:icalendar-ruby
CALSCALE:GREGORIAN
METHOD:PUBLISH
BEGIN:VEVENT
DTSTAMP:20260422T040712Z
UID:1e3047d9-d2a1-4ce5-a947-1dc57c956e54
DTSTART;VALUE=DATE:20090517
DTEND;VALUE=DATE:20090517
DESCRIPTION:Lakes Area BMX
LOCATION:10415 Town Hall Street  Brainerd MN 56401 USA
SUMMARY:Standard Single
URL:/site/bmx_races/128414
END:VEVENT
END:VCALENDAR
