BEGIN:VCALENDAR
VERSION:2.0
PRODID:icalendar-ruby
CALSCALE:GREGORIAN
METHOD:PUBLISH
BEGIN:VEVENT
DTSTAMP:20260425T135646Z
UID:a58a2072-abde-480c-8c6c-c0ffe39c862a
DTSTART;VALUE=DATE:20090123
DTEND;VALUE=DATE:20090123
DESCRIPTION:Colorado River BMX
LOCATION:2230 Highland Dr  Bullhead City AZ 86442 USA
SUMMARY:Standard Single
URL:/site/bmx_races/128997
END:VEVENT
END:VCALENDAR
