BEGIN:VCALENDAR
VERSION:2.0
PRODID:icalendar-ruby
CALSCALE:GREGORIAN
METHOD:PUBLISH
BEGIN:VEVENT
DTSTAMP:20260426T005528Z
UID:fe2df0cc-a59c-450e-ae06-34dcde6055d1
DTSTART;VALUE=DATE:20090623
DTEND;VALUE=DATE:20090623
DESCRIPTION:Apple Valley BMX Moto Park
LOCATION:24320 Highway 18  Apple Valley CA 92307 USA
SUMMARY:Standard Single
URL:/site/bmx_races/129007
END:VEVENT
END:VCALENDAR
