BEGIN:VCALENDAR
VERSION:2.0
PRODID:icalendar-ruby
CALSCALE:GREGORIAN
METHOD:PUBLISH
BEGIN:VEVENT
DTSTAMP:20260425T022835Z
UID:68556ce6-af07-4ad7-b61b-10d526a6cd42
DTSTART;VALUE=DATE:20090724
DTEND;VALUE=DATE:20090724
DESCRIPTION:Colorado River BMX
LOCATION:2230 Highland Dr  Bullhead City AZ 86442 USA
SUMMARY:Standard Single
URL:/site/bmx_races/129214
END:VEVENT
END:VCALENDAR
