BEGIN:VCALENDAR
VERSION:2.0
PRODID:icalendar-ruby
CALSCALE:GREGORIAN
METHOD:PUBLISH
BEGIN:VEVENT
DTSTAMP:20260426T035909Z
UID:d2541e27-69d2-4dd6-9fc5-6a6df47c138e
DTSTART;VALUE=DATE:20080314
DTEND;VALUE=DATE:20080314
DESCRIPTION:Colorado River BMX
LOCATION:2230 Highland Dr  Bullhead City AZ 86442 USA
SUMMARY:Standard Single
URL:/site/bmx_races/129678
END:VEVENT
END:VCALENDAR
