BEGIN:VCALENDAR
VERSION:2.0
PRODID:icalendar-ruby
CALSCALE:GREGORIAN
METHOD:PUBLISH
BEGIN:VEVENT
DTSTAMP:20260424T215928Z
UID:c42be62c-b75f-439d-a5bc-4ad941b93cc8
DTSTART;VALUE=DATE:20080912
DTEND;VALUE=DATE:20080912
DESCRIPTION:Oak Creek BMX
LOCATION:648 Riverside Ave  Roseville CA 95678 USA
SUMMARY:Standard Single
URL:/site/bmx_races/132082
END:VEVENT
END:VCALENDAR
