BEGIN:VCALENDAR
VERSION:2.0
PRODID:icalendar-ruby
CALSCALE:GREGORIAN
METHOD:PUBLISH
BEGIN:VEVENT
DTSTAMP:20260424T191758Z
UID:e0a3a5b5-ec9c-4099-9f66-0a427579a806
DTSTART;VALUE=DATE:20081130
DTEND;VALUE=DATE:20081130
DESCRIPTION:Oak Creek BMX
LOCATION:648 Riverside Ave  Roseville CA 95678 USA
SUMMARY:Standard Single
URL:/site/bmx_races/133013
END:VEVENT
END:VCALENDAR
