BEGIN:VCALENDAR
VERSION:2.0
PRODID:icalendar-ruby
CALSCALE:GREGORIAN
METHOD:PUBLISH
BEGIN:VEVENT
DTSTAMP:20260423T111725Z
UID:d5443154-a963-499c-8e6f-1e437e62be87
DTSTART;VALUE=DATE:20080124
DTEND;VALUE=DATE:20080124
DESCRIPTION:Steel Wheels Indoor BMX
LOCATION:709 N Hobart Rd  Hobart IN 46350 USA
SUMMARY:Standard Single
URL:/site/bmx_races/133322
END:VEVENT
END:VCALENDAR
