BEGIN:VCALENDAR
VERSION:2.0
PRODID:icalendar-ruby
CALSCALE:GREGORIAN
METHOD:PUBLISH
BEGIN:VEVENT
DTSTAMP:20260423T111718Z
UID:f7d0d8bf-bfbc-4f30-ad52-dd7313f46605
DTSTART;VALUE=DATE:20080126
DTEND;VALUE=DATE:20080126
DESCRIPTION:Steel Wheels Indoor BMX
LOCATION:709 N Hobart Rd  Hobart IN 46350 USA
SUMMARY:Standard Single
URL:/site/bmx_races/133501
END:VEVENT
END:VCALENDAR
