BEGIN:VCALENDAR
VERSION:2.0
PRODID:icalendar-ruby
CALSCALE:GREGORIAN
METHOD:PUBLISH
BEGIN:VEVENT
DTSTAMP:20260423T093337Z
UID:900a3feb-38aa-447a-9280-32b6b21e004e
DTSTART;VALUE=DATE:20080207
DTEND;VALUE=DATE:20080207
DESCRIPTION:Steel Wheels Indoor BMX
LOCATION:709 N Hobart Rd  Hobart IN 46350 USA
SUMMARY:Standard Single
URL:/site/bmx_races/133779
END:VEVENT
END:VCALENDAR
