BEGIN:VCALENDAR
VERSION:2.0
PRODID:icalendar-ruby
CALSCALE:GREGORIAN
METHOD:PUBLISH
BEGIN:VEVENT
DTSTAMP:20260423T204655Z
UID:a21e0e72-066c-44a9-87ca-087d15bd2482
DTSTART;VALUE=DATE:20080720
DTEND;VALUE=DATE:20080720
DESCRIPTION:Burlington BMX
LOCATION:1450 Graham Street  Burlington NC 27217 USA
SUMMARY:Standard Double
URL:/site/bmx_races/133825
END:VEVENT
END:VCALENDAR
