BEGIN:VCALENDAR
VERSION:2.0
PRODID:icalendar-ruby
CALSCALE:GREGORIAN
METHOD:PUBLISH
BEGIN:VEVENT
DTSTAMP:20260426T022802Z
UID:efb6d6ae-8f3d-464f-80c3-3dbf806ab4a3
DTSTART;VALUE=DATE:20080419
DTEND;VALUE=DATE:20080419
DESCRIPTION:Colorado River BMX
LOCATION:2230 Highland Dr  Bullhead City AZ 86442 USA
SUMMARY:Qualifier Triple
URL:/site/bmx_races/135341
END:VEVENT
END:VCALENDAR
