BEGIN:VCALENDAR
VERSION:2.0
PRODID:icalendar-ruby
CALSCALE:GREGORIAN
METHOD:PUBLISH
BEGIN:VEVENT
DTSTAMP:20260426T005456Z
UID:2ddd726a-77df-4fff-8e56-1f9dc379c02d
DTSTART;VALUE=DATE:20080606
DTEND;VALUE=DATE:20080606
DESCRIPTION:Colorado River BMX
LOCATION:2230 Highland Dr  Bullhead City AZ 86442 USA
SUMMARY:Standard Single
URL:/site/bmx_races/135907
END:VEVENT
END:VCALENDAR
